BEGIN:VCALENDAR
VERSION:2.0
PRODID:-//United Gymnastics Academy - ECPv5.14.2.1//NONSGML v1.0//EN
CALSCALE:GREGORIAN
METHOD:PUBLISH
X-WR-CALNAME:United Gymnastics Academy
X-ORIGINAL-URL:http://www.unitedgymnastics.com
X-WR-CALDESC:Events for United Gymnastics Academy
REFRESH-INTERVAL;VALUE=DURATION:PT1H
X-Robots-Tag:noindex
X-PUBLISHED-TTL:PT1H
BEGIN:VTIMEZONE
TZID:UTC
BEGIN:STANDARD
TZOFFSETFROM:+0000
TZOFFSETTO:+0000
TZNAME:UTC
DTSTART:20170101T000000
END:STANDARD
END:VTIMEZONE
BEGIN:VEVENT
DTSTART;VALUE=DATE:20171120
DTEND;VALUE=DATE:20171123
DTSTAMP:20260425T151131
CREATED:20171110T025310Z
LAST-MODIFIED:20171117T202434Z
UID:907-1511136000-1511395199@www.unitedgymnastics.com
SUMMARY:Gym Open
DESCRIPTION:Click here to see schedule \n 
URL:http://www.unitedgymnastics.com/event/gym-open/
CATEGORIES:Team Events
END:VEVENT
BEGIN:VEVENT
DTSTART;VALUE=DATE:20171122
DTEND;VALUE=DATE:20171127
DTSTAMP:20260425T151131
CREATED:20171110T025033Z
LAST-MODIFIED:20171110T025201Z
UID:903-1511308800-1511740799@www.unitedgymnastics.com
SUMMARY:Gym Closed
DESCRIPTION:Thanksgiving Break
URL:http://www.unitedgymnastics.com/event/thanksgiving-schedule-gym-closed/
CATEGORIES:Gym Calendar,Team Events
END:VEVENT
BEGIN:VEVENT
DTSTART;VALUE=DATE:20171215
DTEND;VALUE=DATE:20171216
DTSTAMP:20260425T151131
CREATED:20171029T235506Z
LAST-MODIFIED:20171029T235506Z
UID:826-1513296000-1513382399@www.unitedgymnastics.com
SUMMARY:Optionals - Biles Fee Due
DESCRIPTION:Biles International Invitational Entry Fee Due $135\nLevels 6-10
URL:http://www.unitedgymnastics.com/event/optionals-biles-fee-due/
CATEGORIES:Team Events
END:VEVENT
BEGIN:VEVENT
DTSTART;VALUE=DATE:20180105
DTEND;VALUE=DATE:20180108
DTSTAMP:20260425T151131
CREATED:20171029T235720Z
LAST-MODIFIED:20171110T171128Z
UID:829-1515110400-1515369599@www.unitedgymnastics.com
SUMMARY:Optionals - Chow's Challenge
DESCRIPTION:Chow’s Challenge\nGalveston\, Texas\nLevels 6-10 Optionals
URL:http://www.unitedgymnastics.com/event/chows-challenge/
CATEGORIES:Team Events
END:VEVENT
BEGIN:VEVENT
DTSTART;VALUE=DATE:20180126
DTEND;VALUE=DATE:20180129
DTSTAMP:20260425T151131
CREATED:20171110T170819Z
LAST-MODIFIED:20171110T170819Z
UID:933-1516924800-1517183999@www.unitedgymnastics.com
SUMMARY:Optionals - Metroplex Challenge
DESCRIPTION:Metroplex Challenge\nFort Worth Convention Center\nLevels 6-10
URL:http://www.unitedgymnastics.com/event/optionals-metroplex-challenge/
CATEGORIES:Team Events
END:VEVENT
BEGIN:VEVENT
DTSTART;VALUE=DATE:20180209
DTEND;VALUE=DATE:20180212
DTSTAMP:20260425T151131
CREATED:20171110T170937Z
LAST-MODIFIED:20171110T170940Z
UID:935-1518134400-1518393599@www.unitedgymnastics.com
SUMMARY:Optionals & Compulsory - City of Lights
DESCRIPTION:City of Lights\nOrlando\, FL\nLevels 2-10
URL:http://www.unitedgymnastics.com/event/optionals-compulsory-city-of-lights/
CATEGORIES:Team Events
END:VEVENT
BEGIN:VEVENT
DTSTART;VALUE=DATE:20180223
DTEND;VALUE=DATE:20180226
DTSTAMP:20260425T151131
CREATED:20171110T171257Z
LAST-MODIFIED:20171110T172219Z
UID:940-1519344000-1519603199@www.unitedgymnastics.com
SUMMARY:Optionals - Biles International Invitation
DESCRIPTION:Biles International Invitational\nWorld Champions Centre\nSpring\, TX\nLevels 6-10
URL:http://www.unitedgymnastics.com/event/optionals-biles-international-invitation/
CATEGORIES:Team Events
END:VEVENT
BEGIN:VEVENT
DTSTART;VALUE=DATE:20180302
DTEND;VALUE=DATE:20180305
DTSTAMP:20260425T151131
CREATED:20171110T171410Z
LAST-MODIFIED:20171110T172213Z
UID:942-1519948800-1520207999@www.unitedgymnastics.com
SUMMARY:Heart of Texas
DESCRIPTION:Hear of Texas\nAustin\, TX\nCapital Gymnastics
URL:http://www.unitedgymnastics.com/event/heart-of-texas/
CATEGORIES:Team Events
END:VEVENT
BEGIN:VEVENT
DTSTART;VALUE=DATE:20180309
DTEND;VALUE=DATE:20180312
DTSTAMP:20260425T151131
CREATED:20171110T171641Z
LAST-MODIFIED:20171110T172201Z
UID:944-1520553600-1520812799@www.unitedgymnastics.com
SUMMARY:Level 6 State
DESCRIPTION:Level 6 State\nWGA\nWoodlands\, TX
URL:http://www.unitedgymnastics.com/event/level-6-state/
CATEGORIES:Team Events
END:VEVENT
BEGIN:VEVENT
DTSTART;VALUE=DATE:20180316
DTEND;VALUE=DATE:20180319
DTSTAMP:20260425T151131
CREATED:20171110T171750Z
LAST-MODIFIED:20171110T172155Z
UID:946-1521158400-1521417599@www.unitedgymnastics.com
SUMMARY:Level 9-10 State
DESCRIPTION:Level 9 and 10 State\nTexas Dreams\nCoppell\, TX
URL:http://www.unitedgymnastics.com/event/level-9-10-state/
CATEGORIES:Team Events
END:VEVENT
BEGIN:VEVENT
DTSTART;VALUE=DATE:20180323
DTEND;VALUE=DATE:20180326
DTSTAMP:20260425T151131
CREATED:20171110T171830Z
LAST-MODIFIED:20171110T172145Z
UID:948-1521763200-1522022399@www.unitedgymnastics.com
SUMMARY:Level 8 State
DESCRIPTION:Level 8 State\nWOGA\nDallas\, TX
URL:http://www.unitedgymnastics.com/event/level-8-state/
CATEGORIES:Team Events
END:VEVENT
BEGIN:VEVENT
DTSTART;VALUE=DATE:20180406
DTEND;VALUE=DATE:20180409
DTSTAMP:20260425T151131
CREATED:20171110T171919Z
LAST-MODIFIED:20171110T172130Z
UID:950-1522972800-1523231999@www.unitedgymnastics.com
SUMMARY:Level 7 State
DESCRIPTION:Level 7 State\nMetroplex\nPlano\, TX
URL:http://www.unitedgymnastics.com/event/level-7-state/
CATEGORIES:Team Events
END:VEVENT
BEGIN:VEVENT
DTSTART;VALUE=DATE:20180413
DTEND;VALUE=DATE:20180416
DTSTAMP:20260425T151131
CREATED:20171110T172021Z
LAST-MODIFIED:20171110T172308Z
UID:952-1523577600-1523836799@www.unitedgymnastics.com
SUMMARY:Level 9-10 Regionals
DESCRIPTION:Level 9 and 10 Regionals\nDenver\, CO
URL:http://www.unitedgymnastics.com/event/level-9-10-regionals/
CATEGORIES:Team Events
END:VEVENT
BEGIN:VEVENT
DTSTART;VALUE=DATE:20180420
DTEND;VALUE=DATE:20180423
DTSTAMP:20260425T151131
CREATED:20171110T172345Z
LAST-MODIFIED:20171110T172400Z
UID:955-1524182400-1524441599@www.unitedgymnastics.com
SUMMARY:Level 8 Regionals
DESCRIPTION:Level 8 Regionals\nDallas\, TX
URL:http://www.unitedgymnastics.com/event/level-8-regionals/
CATEGORIES:Team Events
END:VEVENT
BEGIN:VEVENT
DTSTART;VALUE=DATE:20180427
DTEND;VALUE=DATE:20180430
DTSTAMP:20260425T151131
CREATED:20171110T172451Z
LAST-MODIFIED:20171110T172451Z
UID:959-1524787200-1525046399@www.unitedgymnastics.com
SUMMARY:Level 7 Regionals
DESCRIPTION:Level 7 Regionals\nKansas City\, MO
URL:http://www.unitedgymnastics.com/event/level-7-regionals/
CATEGORIES:Team Events
END:VEVENT
BEGIN:VEVENT
DTSTART;VALUE=DATE:20180503
DTEND;VALUE=DATE:20180507
DTSTAMP:20260425T151131
CREATED:20171110T172529Z
LAST-MODIFIED:20171110T172554Z
UID:961-1525305600-1525651199@www.unitedgymnastics.com
SUMMARY:Level 9 Westerns
DESCRIPTION:Level 9 Westerns\nSalt Lake City\, UT
URL:http://www.unitedgymnastics.com/event/level-9-regionals/
CATEGORIES:Team Events
END:VEVENT
BEGIN:VEVENT
DTSTART;VALUE=DATE:20180510
DTEND;VALUE=DATE:20180514
DTSTAMP:20260425T151131
CREATED:20171110T172641Z
LAST-MODIFIED:20171110T172641Z
UID:965-1525910400-1526255999@www.unitedgymnastics.com
SUMMARY:Level 10 JO Nationals
DESCRIPTION:Level 10\nJO Nationals\nCincinnati\, OH
URL:http://www.unitedgymnastics.com/event/level-10-jo-nationals/
CATEGORIES:Team Events
END:VEVENT
END:VCALENDAR