BEGIN:VCALENDAR
VERSION:2.0
PRODID:-//United Gymnastics Academy - ECPv5.14.2.1//NONSGML v1.0//EN
CALSCALE:GREGORIAN
METHOD:PUBLISH
X-WR-CALNAME:United Gymnastics Academy
X-ORIGINAL-URL:http://www.unitedgymnastics.com
X-WR-CALDESC:Events for United Gymnastics Academy
REFRESH-INTERVAL;VALUE=DURATION:PT1H
X-Robots-Tag:noindex
X-PUBLISHED-TTL:PT1H
BEGIN:VTIMEZONE
TZID:UTC
BEGIN:STANDARD
TZOFFSETFROM:+0000
TZOFFSETTO:+0000
TZNAME:UTC
DTSTART:20170101T000000
END:STANDARD
END:VTIMEZONE
BEGIN:VEVENT
DTSTART;VALUE=DATE:20171031
DTEND;VALUE=DATE:20171101
DTSTAMP:20260425T033912
CREATED:20171029T222913Z
LAST-MODIFIED:20171030T004423Z
UID:815-1509408000-1509494399@www.unitedgymnastics.com
SUMMARY:Happy Halloween!
DESCRIPTION:
URL:http://www.unitedgymnastics.com/event/happy-halloween/
CATEGORIES:Gym Calendar,Team Events
END:VEVENT
BEGIN:VEVENT
DTSTART;VALUE=DATE:20171031
DTEND;VALUE=DATE:20171101
DTSTAMP:20260425T033912
CREATED:20171029T233831Z
LAST-MODIFIED:20171030T004350Z
UID:818-1509408000-1509494399@www.unitedgymnastics.com
SUMMARY:Gym will be closing early
DESCRIPTION:Teams will end at 6:00PM\nRecreational – 5:45PM and 6:45PM classes are cancelled
URL:http://www.unitedgymnastics.com/event/gym-will-be-closing-early/
CATEGORIES:Gym Calendar,Team Events
END:VEVENT
END:VCALENDAR