BEGIN:VCALENDAR
VERSION:2.0
PRODID:-//United Gymnastics Academy - ECPv5.14.2.1//NONSGML v1.0//EN
CALSCALE:GREGORIAN
METHOD:PUBLISH
X-WR-CALNAME:United Gymnastics Academy
X-ORIGINAL-URL:http://www.unitedgymnastics.com
X-WR-CALDESC:Events for United Gymnastics Academy
REFRESH-INTERVAL;VALUE=DURATION:PT1H
X-Robots-Tag:noindex
X-PUBLISHED-TTL:PT1H
BEGIN:VTIMEZONE
TZID:UTC
BEGIN:STANDARD
TZOFFSETFROM:+0000
TZOFFSETTO:+0000
TZNAME:UTC
DTSTART:20170101T000000
END:STANDARD
END:VTIMEZONE
BEGIN:VEVENT
DTSTART;VALUE=DATE:20171030
DTEND;VALUE=DATE:20171031
DTSTAMP:20260425T033815
CREATED:20171029T221954Z
LAST-MODIFIED:20171029T222828Z
UID:810-1509321600-1509407999@www.unitedgymnastics.com
SUMMARY:Wear Blue or Yellow Leotards!
DESCRIPTION:Wear Blue or Yellow leotards in honor of Down Syndrome Awareness Month
URL:http://www.unitedgymnastics.com/event/810/
CATEGORIES:Team Events
END:VEVENT
END:VCALENDAR